BEGIN:VCALENDAR
VERSION:2.0
PRODID:-//wp-events-plugin.com//7.2.3.1//EN
TZID:America/Phoenix
X-WR-TIMEZONE:America/Phoenix
BEGIN:VEVENT
UID:52@ajsewer.org
DTSTART;TZID=America/Phoenix:20251127T070000
DTEND;TZID=America/Phoenix:20251128T160000
DTSTAMP:20251120T143335Z
URL:https://ajsewer.org/events/thanksgiving-ajsd-offices-closed/
SUMMARY:Thanksgiving - AJSD Offices Closed
DESCRIPTION:
END:VEVENT
BEGIN:VTIMEZONE
TZID:America/Phoenix
X-LIC-LOCATION:America/Phoenix
BEGIN:STANDARD
DTSTART:20241127T070000
TZOFFSETFROM:-0700
TZOFFSETTO:-0700
TZNAME:MST
END:STANDARD
END:VTIMEZONE
END:VCALENDAR